BEGIN:VCALENDAR
VERSION:2.0
PRODID:-//cacidaho.org//NONSGML kigkonsult.se iCalcreator 2.30.10//
CALSCALE:GREGORIAN
METHOD:PUBLISH
UID:e45abb89-6c7d-4058-98a2-173bc858f7c9
X-WR-CALDESC:Both In-Person and Virtual options are available.  Please choo
 se a ticket type based on attending in-person or online.  \n\nIn-Person Lo
 cation:  Nampa Police Department\; Baker Room  - 820 2nd Street S.\, Nampa
 \, ID  83651 (In-Person is limited to 45 attendees)\n\nAwareness and Preve
 ntion for Internet Crimes Against Children\nClass Description: This presen
 tation will assist in understanding what Internet Crimes Against Children 
 (ICAC) and the National Center for Missing and Endangered Children (NCMEC)
  are and how they can help. We will identify the different types of ICAC c
 ases\, including Cyberbullying\, and discuss some current trends in these 
 cases. Lastly\, we will discuss options that community members and parents
  can do to help prevent or minimize these cases.\n
X-WR-RELCALID:6dc87a89990cfd3c132faee14ab711a5
X-WR-TIMEZONE:America/Denver
BEGIN:VTIMEZONE
TZID:America/Denver
BEGIN:STANDARD
TZNAME:MST
DTSTART:20221106T020000
TZOFFSETFROM:-0600
TZOFFSETTO:-0700
RDATE:20231105T020000
END:STANDARD
BEGIN:DAYLIGHT
TZNAME:MDT
DTSTART:20230312T020000
TZOFFSETFROM:-0700
TZOFFSETTO:-0600
RDATE:20240310T020000
END:DAYLIGHT
END:VTIMEZONE
BEGIN:VEVENT
UID:4826bc4e-1ab9-4dea-9acb-72475693a58c
DTSTAMP:20260419T150550Z
DESCRIPTION:Both In-Person and Virtual options are available.  Please choos
 e a ticket type based on attending in-person or online.  \n\nIn-Person Loc
 ation:  Nampa Police Department\; Baker Room  - 820 2nd Street S.\, Nampa\
 , ID  83651 (In-Person is limited to 45 attendees)\n\nAwareness and Preven
 tion for Internet Crimes Against Children\nClass Description: This present
 ation will assist in understanding what Internet Crimes Against Children (
 ICAC) and the National Center for Missing and Endangered Children (NCMEC) 
 are and how they can help. We will identify the different types of ICAC ca
 ses\, including Cyberbullying\, and discuss some current trends in these c
 ases. Lastly\, we will discuss options that community members and parents 
 can do to help prevent or minimize these cases.\n
DTSTART;TZID=America/Denver:20230428T130000
DTEND;TZID=America/Denver:20230428T150000
LOCATION:Event Hosted by Nampa Family Justice Center at the Nampa Police De
 partment (820 2nd Street South\, Nampa\, ID 83651 - The Baker Room) - Plea
 se send questions about event to Kelly Garcia at garciak@cityofnampa.us
SUMMARY:Awareness and Prevention for Internet Crimes Against Children  *Pre
 sented by the Nampa Family Justice Center
END:VEVENT
END:VCALENDAR
