BEGIN:VCALENDAR
VERSION:2.0
PRODID:-//cacidaho.org//NONSGML kigkonsult.se iCalcreator 2.30.10//
CALSCALE:GREGORIAN
METHOD:PUBLISH
UID:2ba0a31e-210e-487a-bc10-86baefade71f
X-WR-CALDESC:Please note:  This event is for members only.  Registrations f
 rom non-member organizations will not be considered at this time. \n\nOffi
 cal Forensic Interviewer Host: Peggy Sherbon from LillyBrooke Family Justi
 ce Center\n\nTheme:  A Difficult Interview\n\nDetails:  Please have a DVD 
 or a secure cloud recording available for the day of the event.  Our end t
 ime will be determined by the number of attendees and the time it takes to
  complete the round of peer reviews.  After registration\, an article will
  be sent for the purpose of professional development to be read before the
  peer review date.
X-WR-RELCALID:5d7cf455c601c828f3618cdde78011dd
X-WR-TIMEZONE:America/Denver
BEGIN:VTIMEZONE
TZID:America/Denver
BEGIN:STANDARD
TZNAME:MST
DTSTART:20211107T020000
TZOFFSETFROM:-0600
TZOFFSETTO:-0700
RDATE:20221106T020000
RDATE:20231105T020000
END:STANDARD
BEGIN:DAYLIGHT
TZNAME:MDT
DTSTART:20220313T020000
TZOFFSETFROM:-0700
TZOFFSETTO:-0600
RDATE:20230312T020000
END:DAYLIGHT
END:VTIMEZONE
BEGIN:VEVENT
UID:3ce4ca69-1bec-4468-b6bf-058f25fda496
DTSTAMP:20260425T042307Z
DESCRIPTION:Please note:  This event is for members only.  Registrations fr
 om non-member organizations will not be considered at this time. \n\nOffic
 al Forensic Interviewer Host: Peggy Sherbon from LillyBrooke Family Justic
 e Center\n\nTheme:  A Difficult Interview\n\nDetails:  Please have a DVD o
 r a secure cloud recording available for the day of the event.  Our end ti
 me will be determined by the number of attendees and the time it takes to 
 complete the round of peer reviews.  After registration\, an article will 
 be sent for the purpose of professional development to be read before the 
 peer review date.
DTSTART;TZID=America/Denver:20220531T090000
DTEND;TZID=America/Denver:20220531T140000
LOCATION:417 S. 6th Street\, Boise\, ID  83702 (Downstairs Classroom)
SUMMARY:INCAC Member Peer Review
END:VEVENT
END:VCALENDAR
