BEGIN:VCALENDAR
VERSION:2.0
PRODID:-//cacidaho.org//NONSGML kigkonsult.se iCalcreator 2.30.10//
CALSCALE:GREGORIAN
METHOD:PUBLISH
UID:2f53827b-7267-4551-b925-2a389c989fe7
X-WR-CALDESC:This workshop is offered in collaboration with Western Regiona
 l Children's Advocacy Center and will focus on building stronger multidisc
 iplinary teams\, and is the second in our MDT support series.  Please join
  us even if you weren't able to join our first session.  \n\nKey Objective
 s: \n\nDiscuss the value and purpose of the MDT response to child abuse\nC
 larify roles within the MDT\nIdentify dynamics of effective multi-discipli
 nary teams\nIdentify common challenges of multi-disciplinary collaboration
 \nExplore solutions to common challenges experienced by multi-disciplinary
  teams\n\nRegistrants will automatically be invited to the follow-up sessi
 on scheduled for June 21st from 1 PM - 3:30 PM
X-WR-RELCALID:fc99c4255623fcd20ecc737c58e30753
X-WR-TIMEZONE:America/Denver
BEGIN:VTIMEZONE
TZID:America/Denver
BEGIN:STANDARD
TZNAME:MST
DTSTART:20211107T020000
TZOFFSETFROM:-0600
TZOFFSETTO:-0700
RDATE:20221106T020000
RDATE:20231105T020000
END:STANDARD
BEGIN:DAYLIGHT
TZNAME:MDT
DTSTART:20220313T020000
TZOFFSETFROM:-0700
TZOFFSETTO:-0600
RDATE:20230312T020000
END:DAYLIGHT
END:VTIMEZONE
BEGIN:VEVENT
UID:e8fa341b-2c20-4008-951d-212c11a03d16
DTSTAMP:20260425T042150Z
DESCRIPTION:This workshop is offered in collaboration with Western Regional
  Children's Advocacy Center and will focus on building stronger multidisci
 plinary teams\, and is the second in our MDT support series.  Please join 
 us even if you weren't able to join our first session.  \n\nKey Objectives
 : \n\nDiscuss the value and purpose of the MDT response to child abuse\nCl
 arify roles within the MDT\nIdentify dynamics of effective multi-disciplin
 ary teams\nIdentify common challenges of multi-disciplinary collaboration
 \nExplore solutions to common challenges experienced by multi-disciplinary
  teams\n\nRegistrants will automatically be invited to the follow-up sessi
 on scheduled for June 21st from 1 PM - 3:30 PM
DTSTART;TZID=America/Denver:20220621T130000
DTEND;TZID=America/Denver:20220621T153000
LOCATION:Virtual with ZOOM
SUMMARY:Multidisciplinary Team Training: Building and Sustaining a Well-Fun
 ctioning MDT - Part 2
END:VEVENT
END:VCALENDAR
