BEGIN:VCALENDAR
VERSION:2.0
PRODID:-//cacidaho.org//NONSGML kigkonsult.se iCalcreator 2.30.10//
CALSCALE:GREGORIAN
METHOD:PUBLISH
UID:d9d41b3d-542f-46aa-9c22-e2937b000b3d
X-WR-CALDESC:Co-Sponsored by: Faces of Hope and YMCA\n\n
X-WR-RELCALID:27fa9f0cd69d9c706e09de7b3c0c10d4
X-WR-TIMEZONE:America/Denver
BEGIN:VTIMEZONE
TZID:America/Denver
BEGIN:STANDARD
TZNAME:MST
DTSTART:20221106T020000
TZOFFSETFROM:-0600
TZOFFSETTO:-0700
RDATE:20231105T020000
END:STANDARD
BEGIN:DAYLIGHT
TZNAME:MDT
DTSTART:20220313T020000
TZOFFSETFROM:-0700
TZOFFSETTO:-0600
RDATE:20230312T020000
RDATE:20240310T020000
END:DAYLIGHT
END:VTIMEZONE
BEGIN:VEVENT
UID:aaf53e2d-e034-488c-a592-4816e79264fb
DTSTAMP:20260425T042611Z
DESCRIPTION:Co-Sponsored by: Faces of Hope and YMCA\n\n
DTSTART;TZID=America/Denver:20221115T180000
DTEND;TZID=America/Denver:20221115T190000
LOCATION:Online with Zoom
SUMMARY:SHINE for Survivors Support Group (Age 18 and up)
END:VEVENT
END:VCALENDAR
