BEGIN:VCALENDAR
VERSION:2.0
PRODID:-//cacidaho.org//NONSGML kigkonsult.se iCalcreator 2.30.10//
CALSCALE:GREGORIAN
METHOD:PUBLISH
UID:3c512502-6d96-4d9e-93ff-3142b1905365
X-WR-CALDESC:Official Forensic Interviewer Host: Ashley Stallings from Uppe
 r Valley Child Advocacy Center\n\nDetails: Please plan on sharing an inter
 view from your computer with audio.  After registration\, an article will 
 be sent for the purpose of professional development to be read before the 
 peer review date.
X-WR-RELCALID:9758cfc6287e5592d1290768eaead934
X-WR-TIMEZONE:America/Denver
BEGIN:VTIMEZONE
TZID:America/Denver
BEGIN:STANDARD
TZNAME:MST
DTSTART:20221106T020000
TZOFFSETFROM:-0600
TZOFFSETTO:-0700
RDATE:20231105T020000
END:STANDARD
BEGIN:DAYLIGHT
TZNAME:MDT
DTSTART:20220313T020000
TZOFFSETFROM:-0700
TZOFFSETTO:-0600
RDATE:20230312T020000
RDATE:20240310T020000
END:DAYLIGHT
END:VTIMEZONE
BEGIN:VEVENT
UID:8efb16bb-c516-45ec-845f-1f5aaa1c9f31
DTSTAMP:20260425T042055Z
DESCRIPTION:Official Forensic Interviewer Host: Ashley Stallings from Upper
  Valley Child Advocacy Center\n\nDetails: Please plan on sharing an interv
 iew from your computer with audio.  After registration\, an article will b
 e sent for the purpose of professional development to be read before the p
 eer review date.
DTSTART;TZID=America/Denver:20221201T080000
DTEND;TZID=America/Denver:20221201T130000
LOCATION:On-line with ZOOM
SUMMARY:Virtual Forensic Interview Peer Review
END:VEVENT
END:VCALENDAR
