BEGIN:VCALENDAR
VERSION:2.0
PRODID:-//cacidaho.org//NONSGML kigkonsult.se iCalcreator 2.30.10//
CALSCALE:GREGORIAN
METHOD:PUBLISH
UID:8bd30ec6-db2f-4d80-90c0-534f68d1e394
X-WR-CALDESC:Co-Sponsored by: Faces of Hope and YMCA\n\n
X-WR-RELCALID:67dbb934edebda80e97363463e159d9a
X-WR-TIMEZONE:America/Denver
BEGIN:VTIMEZONE
TZID:America/Denver
BEGIN:STANDARD
TZNAME:MST
DTSTART:20221106T020000
TZOFFSETFROM:-0600
TZOFFSETTO:-0700
RDATE:20231105T020000
END:STANDARD
BEGIN:DAYLIGHT
TZNAME:MDT
DTSTART:20220313T020000
TZOFFSETFROM:-0700
TZOFFSETTO:-0600
RDATE:20230312T020000
RDATE:20240310T020000
END:DAYLIGHT
END:VTIMEZONE
BEGIN:VEVENT
UID:2344a1b4-157e-4237-8e4f-598f15145987
DTSTAMP:20260425T025330Z
DESCRIPTION:Co-Sponsored by: Faces of Hope and YMCA\n\n
DTSTART;TZID=America/Denver:20230124T180000
DTEND;TZID=America/Denver:20230124T190000
LOCATION:Online with Zoom
SUMMARY:SHINE for Survivors Support Group (Age 18 and up)
END:VEVENT
END:VCALENDAR
