BEGIN:VCALENDAR
VERSION:2.0
PRODID:-//cacidaho.org//NONSGML kigkonsult.se iCalcreator 2.30.10//
CALSCALE:GREGORIAN
METHOD:PUBLISH
UID:2acf381c-e895-45a2-a17d-71896ef984f2
X-WR-CALDESC:Co-Sponsored by: Faces of Hope and YMCA\n\n
X-WR-RELCALID:c56ef99c85ea99ffb59cbea6e01f776e
X-WR-TIMEZONE:America/Denver
BEGIN:VTIMEZONE
TZID:America/Denver
BEGIN:STANDARD
TZNAME:MST
DTSTART:20221106T020000
TZOFFSETFROM:-0600
TZOFFSETTO:-0700
RDATE:20231105T020000
END:STANDARD
BEGIN:DAYLIGHT
TZNAME:MDT
DTSTART:20220313T020000
TZOFFSETFROM:-0700
TZOFFSETTO:-0600
RDATE:20230312T020000
RDATE:20240310T020000
END:DAYLIGHT
END:VTIMEZONE
BEGIN:VEVENT
UID:37763054-a6ec-48ff-b336-ebbaa255f2a3
DTSTAMP:20260425T025239Z
DESCRIPTION:Co-Sponsored by: Faces of Hope and YMCA\n\n
DTSTART;TZID=America/Denver:20230228T180000
DTEND;TZID=America/Denver:20230228T190000
LOCATION:Online with Zoom
SUMMARY:SHINE for Survivors Support Group (Age 18 and up)
END:VEVENT
END:VCALENDAR
