BEGIN:VCALENDAR
VERSION:2.0
PRODID:-//cacidaho.org//NONSGML kigkonsult.se iCalcreator 2.30.10//
CALSCALE:GREGORIAN
METHOD:PUBLISH
UID:0447a914-d4a4-4f99-95f0-af5b9b77e421
X-WR-CALDESC:Join us in horing Child Abuse Prevention Month at the Discover
 y Center of Idaho\n\nThe First 300 Kids Get In Free!\n\nAdult ticket price
 s are $10 and we kindly ask that your reservation includes 1 adult for eve
 ry 4 kids. \n\nRegister by visiting:  https://46684a.blackbaudhosting.com/
 46684a/page.aspx?pid=196&tab=2&txobjid=c5bab9e6-a6f2-4a13-921d-ba90d7dbb51
 1
X-WR-RELCALID:548c1f86f98976fad4ec26119cb56fc3
X-WR-TIMEZONE:America/Denver
BEGIN:VTIMEZONE
TZID:America/Denver
BEGIN:STANDARD
TZNAME:MST
DTSTART:20221106T020000
TZOFFSETFROM:-0600
TZOFFSETTO:-0700
RDATE:20231105T020000
END:STANDARD
BEGIN:DAYLIGHT
TZNAME:MDT
DTSTART:20230312T020000
TZOFFSETFROM:-0700
TZOFFSETTO:-0600
RDATE:20240310T020000
END:DAYLIGHT
END:VTIMEZONE
BEGIN:VEVENT
UID:fca7999c-6e3b-465b-8027-735fd25f1cc4
DTSTAMP:20260425T025440Z
DESCRIPTION:Join us in horing Child Abuse Prevention Month at the Discovery
  Center of Idaho\n\nThe First 300 Kids Get In Free!\n\nAdult ticket prices
  are $10 and we kindly ask that your reservation includes 1 adult for ever
 y 4 kids. \n\nRegister by visiting:  https://46684a.blackbaudhosting.com/4
 6684a/page.aspx?pid=196&tab=2&txobjid=c5bab9e6-a6f2-4a13-921d-ba90d7dbb511
DTSTART;TZID=America/Denver:20230419T140000
DTEND;TZID=America/Denver:20230419T163000
LOCATION:Discover Center of Idaho - 131 W Myrtle Street\, Boise\, ID  83702
SUMMARY:Child Abuse Prevention Day at the Discovery Center of Idaho
END:VEVENT
END:VCALENDAR
