BEGIN:VCALENDAR
VERSION:2.0
PRODID:-//cacidaho.org//NONSGML kigkonsult.se iCalcreator 2.30.10//
CALSCALE:GREGORIAN
METHOD:PUBLISH
UID:bce427a1-2b17-46aa-ab63-0ea99313f69e
X-WR-CALDESC:Title Sponsor:  CortexFlo\n\nPresentations from: \nNational Na
 tive Child Trauma Center\nNational Center for Missing and Exploited Childr
 en\nWestern Regional Children's Advocacy Center\n\nIn-person space will be
  limited\, and registration confirmation is required to attend in person.
X-WR-RELCALID:d3ce07acb2134f8ab6e94b02664487cf
X-WR-TIMEZONE:America/Denver
BEGIN:VTIMEZONE
TZID:America/Denver
BEGIN:STANDARD
TZNAME:MST
DTSTART:20221106T020000
TZOFFSETFROM:-0600
TZOFFSETTO:-0700
RDATE:20231105T020000
RDATE:20241103T020000
END:STANDARD
BEGIN:DAYLIGHT
TZNAME:MDT
DTSTART:20230312T020000
TZOFFSETFROM:-0700
TZOFFSETTO:-0600
RDATE:20240310T020000
RDATE:20250309T020000
END:DAYLIGHT
END:VTIMEZONE
BEGIN:VEVENT
UID:33d94b0a-28df-4b62-8933-baf304e00ca4
DTSTAMP:20260425T042308Z
DESCRIPTION:Title Sponsor:  CortexFlo\n\nPresentations from: \nNational Nat
 ive Child Trauma Center\nNational Center for Missing and Exploited Childre
 n\nWestern Regional Children's Advocacy Center\n\nIn-person space will be 
 limited\, and registration confirmation is required to attend in person.
DTSTART;TZID=America/Denver:20230925T130000
DTEND;TZID=America/Denver:20230926T170000
LOCATION:Williams Conference Center @ Lewis-Clark College (Lewiston\, ID)
SUMMARY:Protecting Our Kids Symposium
END:VEVENT
END:VCALENDAR
