BEGIN:VCALENDAR
VERSION:2.0
PRODID:-//cacidaho.org//NONSGML kigkonsult.se iCalcreator 2.30.10//
CALSCALE:GREGORIAN
METHOD:PUBLISH
UID:08301838-a24e-495e-8c61-c0cc21a81ce2
X-WR-CALDESC:Session led by Maureen Durning and Jane Zink\n\nHealthy Outcom
 es for Positive Experiences is an evidence-informed training series that t
 eaches about ACEs (Adverse Childhood Experiences) and PCEs (Positive Child
 hood Experiences) and the Building Blocks of HOPE.
X-WR-RELCALID:025f4b96b2b91ff43270ca8160c4e668
X-WR-TIMEZONE:America/Denver
BEGIN:VTIMEZONE
TZID:America/Denver
BEGIN:STANDARD
TZNAME:MST
DTSTART:20231105T020000
TZOFFSETFROM:-0600
TZOFFSETTO:-0700
RDATE:20241103T020000
END:STANDARD
BEGIN:DAYLIGHT
TZNAME:MDT
DTSTART:20240310T020000
TZOFFSETFROM:-0700
TZOFFSETTO:-0600
RDATE:20250309T020000
END:DAYLIGHT
END:VTIMEZONE
BEGIN:VEVENT
UID:6788b0e4-9d23-4943-b0a3-c5f159cd9697
DTSTAMP:20260425T012642Z
DESCRIPTION:Session led by Maureen Durning and Jane Zink\n\nHealthy Outcome
 s for Positive Experiences is an evidence-informed training series that te
 aches about ACEs (Adverse Childhood Experiences) and PCEs (Positive Childh
 ood Experiences) and the Building Blocks of HOPE.
DTSTART;TZID=America/Denver:20240403T130000
DTEND;TZID=America/Denver:20240403T143000
LOCATION:Library! at Cole & Ustick\, 7557 W. Ustick Road\, Boise\, ID 83704
  US
SUMMARY:HOPE - Canceled
END:VEVENT
END:VCALENDAR
