BEGIN:VCALENDAR
VERSION:2.0
PRODID:-//cacidaho.org//NONSGML kigkonsult.se iCalcreator 2.30.10//
CALSCALE:GREGORIAN
METHOD:PUBLISH
UID:323e840c-8126-4118-98ae-edc2d04d0579
X-WR-CALDESC:Stewards of Children®\, teaches adults how to prevent\, recogn
 ize\, and react responsibly to child sexual abuse. Additional training is 
 available that is designed to provide more in-depth information and skill 
 development in topic areas addressed in Stewards of Children®\, including 
 but not limited to other forms of abuse\, mandated reporting\, and human t
 rafficking.\n\nSponsored by Ada County Victim Service Center\n\nHosted at 
 the Cole and Ustick - Boise Library - Bitterbrush Room \nLocation: 7557 W.
  Ustick Rd.\, Boise\, ID 83704\n*Use of library space does not imply libra
 ry sponsorship or endorsement of this event or its content\n
X-WR-RELCALID:46f7fa630f4864d23a46a11eb4241ef8
X-WR-TIMEZONE:America/Denver
BEGIN:VTIMEZONE
TZID:America/Denver
BEGIN:STANDARD
TZNAME:MST
DTSTART:20251102T020000
TZOFFSETFROM:-0600
TZOFFSETTO:-0700
RDATE:20261101T020000
END:STANDARD
BEGIN:DAYLIGHT
TZNAME:MDT
DTSTART:20250309T020000
TZOFFSETFROM:-0700
TZOFFSETTO:-0600
RDATE:20260308T020000
RDATE:20270314T020000
END:DAYLIGHT
END:VTIMEZONE
BEGIN:VEVENT
UID:d44ca9ef-2760-474e-be9a-4e3ac76940c7
DTSTAMP:20260424T235335Z
DESCRIPTION:Stewards of Children®\, teaches adults how to prevent\, recogni
 ze\, and react responsibly to child sexual abuse. Additional training is a
 vailable that is designed to provide more in-depth information and skill d
 evelopment in topic areas addressed in Stewards of Children®\, including b
 ut not limited to other forms of abuse\, mandated reporting\, and human tr
 afficking.\n\nSponsored by Ada County Victim Service Center\n\nHosted at t
 he Cole and Ustick - Boise Library - Bitterbrush Room \nLocation: 7557 W. 
 Ustick Rd.\, Boise\, ID 83704\n*Use of library space does not imply librar
 y sponsorship or endorsement of this event or its content\n
DTSTART;TZID=America/Denver:20251203T130000
DTEND;TZID=America/Denver:20251208T153000
LOCATION:Cole and Ustick Library - Bitterbrush Room\, 7557 Ustick Road\, Bo
 ise\, ID 83704 US
SUMMARY:Darkness to Light - Stewards of Children Training
END:VEVENT
END:VCALENDAR
