BEGIN:VCALENDAR
VERSION:2.0
PRODID:-//cacidaho.org//NONSGML kigkonsult.se iCalcreator 2.30.10//
CALSCALE:GREGORIAN
METHOD:PUBLISH
UID:5c3a9d6a-0978-4f5b-81ed-5fa91120a160
X-WR-CALDESC:Join Nampa Family Justice Center for a 0.4 mile awareness walk
  from NPD to Lloyd Square - The walk ends with free food\, carnival games\
 , bounce houses\, a train ride\, resource booths\, and a chance to win a b
 rand-new kid's bike as a raffle prize!
X-WR-RELCALID:e58b5623ab73557a46b0ad1a7c664515
X-WR-TIMEZONE:America/Denver
BEGIN:VTIMEZONE
TZID:America/Denver
BEGIN:STANDARD
TZNAME:MST
DTSTART:20251102T020000
TZOFFSETFROM:-0600
TZOFFSETTO:-0700
RDATE:20261101T020000
END:STANDARD
BEGIN:DAYLIGHT
TZNAME:MDT
DTSTART:20260308T020000
TZOFFSETFROM:-0700
TZOFFSETTO:-0600
RDATE:20270314T020000
END:DAYLIGHT
END:VTIMEZONE
BEGIN:VEVENT
UID:bd61b978-d236-4c28-9e7b-5c6acd0e49ca
DTSTAMP:20260424T222410Z
DESCRIPTION:Join Nampa Family Justice Center for a 0.4 mile awareness walk 
 from NPD to Lloyd Square - The walk ends with free food\, carnival games\,
  bounce houses\, a train ride\, resource booths\, and a chance to win a br
 and-new kid's bike as a raffle prize!
DTSTART;TZID=America/Denver:20260328T130000
DTEND;TZID=America/Denver:20260328T160000
LOCATION:Nampa Police Department\,  820 2nd Street\, Nampa\, ID 83651 US
SUMMARY:Nampa Family Justice Center Superhero Walk
END:VEVENT
END:VCALENDAR
