BEGIN:VCALENDAR
VERSION:2.0
PRODID:-//cacidaho.org//NONSGML kigkonsult.se iCalcreator 2.30.10//
CALSCALE:GREGORIAN
METHOD:PUBLISH
UID:d15d0c9a-7ece-45c4-9725-8187b0436b44
X-WR-CALDESC:Exciting games\, activities\, coloring contest\, interactive g
 ames for all ages\, and various community organization booths free resourc
 e scavenger hunt – complete the hunt for a chance to receive a raffle tick
 et for a large prize!
X-WR-RELCALID:8967d477a87614a71848621ce45eb574
X-WR-TIMEZONE:America/Denver
BEGIN:VTIMEZONE
TZID:America/Denver
BEGIN:STANDARD
TZNAME:MST
DTSTART:20251102T020000
TZOFFSETFROM:-0600
TZOFFSETTO:-0700
RDATE:20261101T020000
END:STANDARD
BEGIN:DAYLIGHT
TZNAME:MDT
DTSTART:20260308T020000
TZOFFSETFROM:-0700
TZOFFSETTO:-0600
RDATE:20270314T020000
END:DAYLIGHT
END:VTIMEZONE
BEGIN:VEVENT
UID:d36465fb-8dc1-4e57-ae67-bcd776c92bb3
DTSTAMP:20260424T221503Z
DESCRIPTION:Exciting games\, activities\, coloring contest\, interactive ga
 mes for all ages\, and various community organization booths free resource
  scavenger hunt – complete the hunt for a chance to receive a raffle ticke
 t for a large prize!
DTSTART;TZID=America/Denver:20260402T160000
DTEND;TZID=America/Denver:20260402T200000
LOCATION:Museum of Clean Exhibit Hall\, 711 S 2nd Ave\, Pocatello\, ID 8320
 1 US
SUMMARY:Family Fun Event- Strengthening Families Month
END:VEVENT
END:VCALENDAR
