BEGIN:VCALENDAR
VERSION:2.0
PRODID:-//cacidaho.org//NONSGML kigkonsult.se iCalcreator 2.30.10//
CALSCALE:GREGORIAN
METHOD:PUBLISH
UID:26cab1c5-55c6-468a-b9f2-9dd30180750e
X-WR-CALDESC:Free activities\, admission\, food and treats - including emer
 gency vehicle displays\, games\, food\, community resources\, games and pr
 izes!
X-WR-RELCALID:2c8bedc9930ac86d51a04ea9c86bf674
X-WR-TIMEZONE:America/Denver
BEGIN:VTIMEZONE
TZID:America/Denver
BEGIN:STANDARD
TZNAME:MST
DTSTART:20251102T020000
TZOFFSETFROM:-0600
TZOFFSETTO:-0700
RDATE:20261101T020000
END:STANDARD
BEGIN:DAYLIGHT
TZNAME:MDT
DTSTART:20260308T020000
TZOFFSETFROM:-0700
TZOFFSETTO:-0600
RDATE:20270314T020000
END:DAYLIGHT
END:VTIMEZONE
BEGIN:VEVENT
UID:09fc2291-0f94-467a-9e79-50082c96426d
DTSTAMP:20260424T221658Z
DESCRIPTION:Free activities\, admission\, food and treats - including emerg
 ency vehicle displays\, games\, food\, community resources\, games and pri
 zes!
DTSTART;TZID=America/Denver:20260425T110000
DTEND;TZID=America/Denver:20260425T160000
LOCATION:Bonner County Fairgrounds \, 4203 N Boyer Rd\, Sandpoint\, ID 8386
 4 US
SUMMARY:LillyBrooke Family Justice Center - 6th Annual Kids Fair
END:VEVENT
END:VCALENDAR
