BEGIN:VCALENDAR
VERSION:2.0
PRODID:-//cacidaho.org//NONSGML kigkonsult.se iCalcreator 2.30.10//
CALSCALE:GREGORIAN
METHOD:PUBLISH
UID:3815352d-8566-4ee2-a9b7-883a48b1279f
X-WR-CALDESC:Co-Sponsored by: Faces of Hope and YMCA\n\nWe will be meeting 
 in the party room next to the aquatics center.  Please be prepared to show
  your ID at the YMCA front desk upon arrival.
X-WR-RELCALID:96c5f2d107e2df81101a77cd95f0188d
X-WR-TIMEZONE:America/Denver
BEGIN:VTIMEZONE
TZID:America/Denver
BEGIN:STANDARD
TZNAME:MST
DTSTART:20221106T020000
TZOFFSETFROM:-0600
TZOFFSETTO:-0700
RDATE:20231105T020000
END:STANDARD
BEGIN:DAYLIGHT
TZNAME:MDT
DTSTART:20230312T020000
TZOFFSETFROM:-0700
TZOFFSETTO:-0600
RDATE:20240310T020000
END:DAYLIGHT
END:VTIMEZONE
BEGIN:VEVENT
UID:2b9636c7-fac5-4720-b807-c808843d930b
DTSTAMP:20260422T170643Z
DESCRIPTION:Co-Sponsored by: Faces of Hope and YMCA\n\nWe will be meeting i
 n the party room next to the aquatics center.  Please be prepared to show 
 your ID at the YMCA front desk upon arrival.
DTSTART;TZID=America/Denver:20230314T180000
DTEND;TZID=America/Denver:20230314T190000
LOCATION:In-Person option held at the West Boise Family YMCA  - 5959 N Disc
 overy Way
SUMMARY:SHINE for Survivors Support Group (Age 18 and up)
END:VEVENT
END:VCALENDAR
