BEGIN:VCALENDAR
VERSION:2.0
PRODID:-//cacidaho.org//NONSGML kigkonsult.se iCalcreator 2.30.10//
CALSCALE:GREGORIAN
METHOD:PUBLISH
UID:f3c1bf83-b339-4394-8759-103998c41e5e
X-WR-CALDESC:All are invited: law enforcement\, social workers\, medical pr
 ofessionals\, counselors\, attorneys\, advocates\, churches\, community me
 mbers\, etc.\n  \nWhat:   \n \nDomestic Violence 101 and Information on Ch
 ild Abuse presented by Detective Corporal Angela Weekes\, (Retired)\n \nHu
 man Trafficking 101 presented by Taylor Cook\, Human Trafficking Project C
 oordinator\, LCSW\n \nAuthor Leslie Montgomery will share her personal sto
 ry of how domestic violence and child abuse impacted her life and will als
 o share her message of hope.\n \nWhen:                  October 11\, 2023
 \n \nWhere:                 Hispanic Cultural Center of Idaho\, 315 Stampe
 de Dr\, Nampa\, ID 83687\n \nTime:                    9:30-3:45pm\n \nCost
 :                     No Charge\n \nRefreshments:   Coffee and snacks will
  be provided (lunch on your own)\n \nCertificate:             A detailed c
 ertificate of completion will be provided\n
X-WR-RELCALID:a73655fd67fbadc54c39e0b607bb84c4
X-WR-TIMEZONE:America/Denver
BEGIN:VTIMEZONE
TZID:America/Denver
BEGIN:STANDARD
TZNAME:MST
DTSTART:20221106T020000
TZOFFSETFROM:-0600
TZOFFSETTO:-0700
RDATE:20231105T020000
RDATE:20241103T020000
END:STANDARD
BEGIN:DAYLIGHT
TZNAME:MDT
DTSTART:20230312T020000
TZOFFSETFROM:-0700
TZOFFSETTO:-0600
RDATE:20240310T020000
RDATE:20250309T020000
END:DAYLIGHT
END:VTIMEZONE
BEGIN:VEVENT
UID:02fe5a6a-1a28-40c9-921d-1078764bfce2
DTSTAMP:20260423T200042Z
DESCRIPTION:All are invited: law enforcement\, social workers\, medical pro
 fessionals\, counselors\, attorneys\, advocates\, churches\, community mem
 bers\, etc.\n  \nWhat:   \n \nDomestic Violence 101 and Information on Chi
 ld Abuse presented by Detective Corporal Angela Weekes\, (Retired)\n \nHum
 an Trafficking 101 presented by Taylor Cook\, Human Trafficking Project Co
 ordinator\, LCSW\n \nAuthor Leslie Montgomery will share her personal stor
 y of how domestic violence and child abuse impacted her life and will also
  share her message of hope.\n \nWhen:                  October 11\, 2023\n
  \nWhere:                 Hispanic Cultural Center of Idaho\, 315 Stampede
  Dr\, Nampa\, ID 83687\n \nTime:                    9:30-3:45pm\n \nCost: 
                     No Charge\n \nRefreshments:   Coffee and snacks will b
 e provided (lunch on your own)\n \nCertificate:             A detailed cer
 tificate of completion will be provided\n
DTSTART;TZID=America/Denver:20231011T093000
DTEND;TZID=America/Denver:20231011T160000
LOCATION:Event Hosted by Nampa Family Justice Center at the Hispanic Cultur
 al Center of Idaho\, 315 Stampede Dr\, Nampa\, ID 83687  - Please send que
 stions about event to Kelly Garcia at garciak@cityofnampa.us
SUMMARY:Domestic Violence 101 and Information on Child Abuse  & Human Traff
 icking 101  * Hosted by Nampa Family Justice Center
END:VEVENT
END:VCALENDAR
