BEGIN:VCALENDAR
VERSION:2.0
PRODID:-//cacidaho.org//NONSGML kigkonsult.se iCalcreator 2.30.10//
CALSCALE:GREGORIAN
METHOD:PUBLISH
UID:d9f8a992-c43d-44b9-9ab5-7cddf67000eb
X-WR-CALDESC:A Training for Victim Service Providers: \nSocial Workers\, Me
 ntal Health Providers\, Advocates\, Case Managers\, Counselors\, Substance
  Use Treatment Providers\, Hospital Social Workers\, Probations and Parole
  Officers\n\nPrester: \nJamie Rosseland\nNationally Recognized Anti-Traffi
 cking Presenter & Consultant\n\nTraining Objectives: \nTo provide essentia
 l knowledge and skills needed to support survivors of trauma (with a speci
 al focus on those affected by human trafficking) \n\nLearning Modules: \n1
 . Understanding Trauma and Its Affects\n2. Addressing Victim Blaming and S
 tigma\n3. Vicarious Trauma: Impact on Service Providers
X-WR-RELCALID:ff3d046645093a17107ef4e64749c62f
X-WR-TIMEZONE:America/Denver
BEGIN:VTIMEZONE
TZID:America/Denver
BEGIN:STANDARD
TZNAME:MST
DTSTART:20231105T020000
TZOFFSETFROM:-0600
TZOFFSETTO:-0700
RDATE:20241103T020000
END:STANDARD
BEGIN:DAYLIGHT
TZNAME:MDT
DTSTART:20230312T020000
TZOFFSETFROM:-0700
TZOFFSETTO:-0600
RDATE:20240310T020000
RDATE:20250309T020000
END:DAYLIGHT
END:VTIMEZONE
BEGIN:VEVENT
UID:2dc0b418-1b5f-409b-a8fd-4a6258f2f35b
DTSTAMP:20260423T145200Z
DESCRIPTION:A Training for Victim Service Providers: \nSocial Workers\, Men
 tal Health Providers\, Advocates\, Case Managers\, Counselors\, Substance 
 Use Treatment Providers\, Hospital Social Workers\, Probations and Parole 
 Officers\n\nPrester: \nJamie Rosseland\nNationally Recognized Anti-Traffic
 king Presenter & Consultant\n\nTraining Objectives: \nTo provide essential
  knowledge and skills needed to support survivors of trauma (with a specia
 l focus on those affected by human trafficking) \n\nLearning Modules: \n1.
  Understanding Trauma and Its Affects\n2. Addressing Victim Blaming and St
 igma\n3. Vicarious Trauma: Impact on Service Providers
DTSTART;TZID=America/Denver:20240112T040000
DTEND;TZID=America/Denver:20240112T040001
LOCATION:Event Hosted by Nampa Family Justice Center at the former Hispanic
  Cultural Center of Idaho\, 315 Stampede Dr\, Nampa\, ID 83687
SUMMARY:An Anti-Human Trafficking Conference: Trauma-Informed Care For Surv
 ivors
END:VEVENT
END:VCALENDAR
