BEGIN:VCALENDAR
VERSION:2.0
PRODID:-//cacidaho.org//NONSGML kigkonsult.se iCalcreator 2.30.10//
CALSCALE:GREGORIAN
METHOD:PUBLISH
UID:65fa59d4-0d74-48bc-b416-2ec870b511a7
X-WR-CALDESC:This presentation will address the basics of human trafficking
 . It will include definitions for both sex trafficking and labor trafficki
 ng\, breakdown various myths and misconceptions about human trafficking\, 
 will cover who is affected by human trafficking and discuss what makes an 
 individual vulnerable\, will discuss warning signs and red flags of human 
 trafficking\, will address trauma and how victims are impacted by human tr
 afficking\, will address how traffickers solicit victims\, various methods
  of coercion\, trafficking schemes\, and what makes it difficult for indiv
 iduals to get out. This presentation will include information specific to 
 Idaho and what human trafficking looks like in our state.
X-WR-RELCALID:5172cca3e12a2a16860d7425cc9ca166
X-WR-TIMEZONE:America/Denver
BEGIN:VTIMEZONE
TZID:America/Denver
BEGIN:STANDARD
TZNAME:MST
DTSTART:20231105T020000
TZOFFSETFROM:-0600
TZOFFSETTO:-0700
RDATE:20241103T020000
END:STANDARD
BEGIN:DAYLIGHT
TZNAME:MDT
DTSTART:20230312T020000
TZOFFSETFROM:-0700
TZOFFSETTO:-0600
RDATE:20240310T020000
RDATE:20250309T020000
END:DAYLIGHT
END:VTIMEZONE
BEGIN:VEVENT
UID:46763cab-c97a-4c54-a8d7-afd1afe5b087
DTSTAMP:20260423T145553Z
DESCRIPTION:This presentation will address the basics of human trafficking.
  It will include definitions for both sex trafficking and labor traffickin
 g\, breakdown various myths and misconceptions about human trafficking\, w
 ill cover who is affected by human trafficking and discuss what makes an i
 ndividual vulnerable\, will discuss warning signs and red flags of human t
 rafficking\, will address trauma and how victims are impacted by human tra
 fficking\, will address how traffickers solicit victims\, various methods 
 of coercion\, trafficking schemes\, and what makes it difficult for indivi
 duals to get out. This presentation will include information specific to I
 daho and what human trafficking looks like in our state.
DTSTART;TZID=America/Denver:20240126T100000
DTEND;TZID=America/Denver:20240126T120000
LOCATION:820 2nd Street S\, Baker Room\, Nampa\, ID 83651 US
SUMMARY:Understanding Human Trafficking
END:VEVENT
END:VCALENDAR
