BEGIN:VCALENDAR
VERSION:2.0
PRODID:-//cacidaho.org//NONSGML kigkonsult.se iCalcreator 2.30.10//
CALSCALE:GREGORIAN
METHOD:PUBLISH
UID:83fb81a0-d43f-462e-b9f8-39b0a510ab5b
X-WR-CALDESC:Hosted by Audra Green with the Meridian Library\n\nAn interact
 ive game that show how positive and negative experiences and environments 
 shape early brain development.
X-WR-RELCALID:b3cc03aa221fd169a492cc716c500be3
X-WR-TIMEZONE:America/Denver
BEGIN:VTIMEZONE
TZID:America/Denver
BEGIN:STANDARD
TZNAME:MST
DTSTART:20231105T020000
TZOFFSETFROM:-0600
TZOFFSETTO:-0700
RDATE:20241103T020000
END:STANDARD
BEGIN:DAYLIGHT
TZNAME:MDT
DTSTART:20240310T020000
TZOFFSETFROM:-0700
TZOFFSETTO:-0600
RDATE:20250309T020000
END:DAYLIGHT
END:VTIMEZONE
BEGIN:VEVENT
UID:36893a4b-aeff-4eb0-ab19-2b5f7d13d5d5
DTSTAMP:20260423T093752Z
DESCRIPTION:Hosted by Audra Green with the Meridian Library\n\nAn interacti
 ve game that show how positive and negative experiences and environments s
 hape early brain development.
DTSTART;TZID=America/Denver:20240418T120000
DTEND;TZID=America/Denver:20240418T133000
LOCATION:Orchard Park Library\, 1268 W Orchard Park Dr\, Meridian\, ID 8364
 6 US
SUMMARY:Brain Architecture Game - Canceled
END:VEVENT
END:VCALENDAR
