BEGIN:VCALENDAR
VERSION:2.0
PRODID:-//cacidaho.org//NONSGML kigkonsult.se iCalcreator 2.30.10//
CALSCALE:GREGORIAN
METHOD:PUBLISH
UID:e1824767-e00f-48d3-95f4-deda307aa0a2
X-WR-CALDESC:Hosted by Audra Green with Meridian Library\n\nHealthy Outcome
 s for Positive Experiences is an evidence-informed training series that te
 aches about ACEs (Adverse Childhood Experiences) and PCEs (Positive Childh
 ood Experiences) and the Building Blocks of HOPE.
X-WR-RELCALID:9cf6aba3095ddd03fb41f79afb5f0ef9
X-WR-TIMEZONE:America/Denver
BEGIN:VTIMEZONE
TZID:America/Denver
BEGIN:STANDARD
TZNAME:MST
DTSTART:20231105T020000
TZOFFSETFROM:-0600
TZOFFSETTO:-0700
RDATE:20241103T020000
END:STANDARD
BEGIN:DAYLIGHT
TZNAME:MDT
DTSTART:20240310T020000
TZOFFSETFROM:-0700
TZOFFSETTO:-0600
RDATE:20250309T020000
END:DAYLIGHT
END:VTIMEZONE
BEGIN:VEVENT
UID:5b57fc83-7998-4056-b5e3-d45d4a8af14b
DTSTAMP:20260423T094345Z
DESCRIPTION:Hosted by Audra Green with Meridian Library\n\nHealthy Outcomes
  for Positive Experiences is an evidence-informed training series that tea
 ches about ACEs (Adverse Childhood Experiences) and PCEs (Positive Childho
 od Experiences) and the Building Blocks of HOPE.
DTSTART;TZID=America/Denver:20240424T150000
DTEND;TZID=America/Denver:20240424T170000
LOCATION:Cherry Lane Library - Children's Program Room\, 1326 W. Cherry Lan
 e\, Meridian\, ID 83642 US
SUMMARY:HOPE
END:VEVENT
END:VCALENDAR
