BEGIN:VCALENDAR
VERSION:2.0
PRODID:-//cacidaho.org//NONSGML kigkonsult.se iCalcreator 2.30.10//
CALSCALE:GREGORIAN
METHOD:PUBLISH
UID:70c0f8f9-321d-412b-8a11-c36975117cf2
X-WR-CALDESC:The Symposium focuses on multidisciplinary teams collaborating
  to elevate Idaho's response to child maltreatment and child sexual abuse.
  It emphasizes building a community of support centered on trauma-informed
  care and healing.\n\nStatement on CEUs:  we understand the importance of 
 these credits to many of you\, so we will provide all necessary documentat
 ion to assist you in self-reporting your participation. This will include 
 attendance certificates and any other relevant materials that may be requi
 red by your certifying organization.
X-WR-RELCALID:91a0415e94727022dd6f7c7dfdb795a3
X-WR-TIMEZONE:America/Denver
BEGIN:VTIMEZONE
TZID:America/Denver
BEGIN:STANDARD
TZNAME:MST
DTSTART:20231105T020000
TZOFFSETFROM:-0600
TZOFFSETTO:-0700
RDATE:20241103T020000
RDATE:20251102T020000
END:STANDARD
BEGIN:DAYLIGHT
TZNAME:MDT
DTSTART:20240310T020000
TZOFFSETFROM:-0700
TZOFFSETTO:-0600
RDATE:20250309T020000
RDATE:20260308T020000
END:DAYLIGHT
END:VTIMEZONE
BEGIN:VEVENT
UID:e147d23e-ada2-4a9b-a3fc-abf673425b9a
DTSTAMP:20260423T005742Z
DESCRIPTION:The Symposium focuses on multidisciplinary teams collaborating 
 to elevate Idaho's response to child maltreatment and child sexual abuse. 
 It emphasizes building a community of support centered on trauma-informed 
 care and healing.\n\nStatement on CEUs:  we understand the importance of t
 hese credits to many of you\, so we will provide all necessary documentati
 on to assist you in self-reporting your participation. This will include a
 ttendance certificates and any other relevant materials that may be requir
 ed by your certifying organization.
DTSTART;TZID=America/Denver:20240911T080000
DTEND;TZID=America/Denver:20240912T123000
LOCATION:ISU Idaho Falls Campus - Bennion Student Union Building\, Idaho Fa
 lls\, ID 83402 US
SUMMARY:Protecting Our Kids Symposium (In-Person)
END:VEVENT
END:VCALENDAR
