BEGIN:VCALENDAR
VERSION:2.0
PRODID:-//cacidaho.org//NONSGML kigkonsult.se iCalcreator 2.30.10//
CALSCALE:GREGORIAN
METHOD:PUBLISH
UID:11eb2415-20d5-4841-8ec1-9239fccd4230
X-WR-CALDESC:The Symposium focuses on multidisciplinary teams collaborating
  to elevate Idaho's response to child maltreatment and child sexual abuse.
  It emphasizes building a community of support centered on trauma-informed
  care and healing.\n\nStatement on CEUs:  we understand the importance of 
 these credits to many of you\, so we will provide all necessary documentat
 ion to assist you in self-reporting your participation. This will include 
 attendance certificates and any other relevant materials that may be requi
 red by your certifying organization.
X-WR-RELCALID:7c792e235d623e76452e882ba089fefb
X-WR-TIMEZONE:America/Denver
BEGIN:VTIMEZONE
TZID:America/Denver
BEGIN:STANDARD
TZNAME:MST
DTSTART:20231105T020000
TZOFFSETFROM:-0600
TZOFFSETTO:-0700
RDATE:20241103T020000
RDATE:20251102T020000
END:STANDARD
BEGIN:DAYLIGHT
TZNAME:MDT
DTSTART:20240310T020000
TZOFFSETFROM:-0700
TZOFFSETTO:-0600
RDATE:20250309T020000
RDATE:20260308T020000
END:DAYLIGHT
END:VTIMEZONE
BEGIN:VEVENT
UID:2d654263-67e6-4578-a237-8f8051b8214a
DTSTAMP:20260423T010209Z
DESCRIPTION:The Symposium focuses on multidisciplinary teams collaborating 
 to elevate Idaho's response to child maltreatment and child sexual abuse. 
 It emphasizes building a community of support centered on trauma-informed 
 care and healing.\n\nStatement on CEUs:  we understand the importance of t
 hese credits to many of you\, so we will provide all necessary documentati
 on to assist you in self-reporting your participation. This will include a
 ttendance certificates and any other relevant materials that may be requir
 ed by your certifying organization.
DTSTART;TZID=America/Denver:20240911T103000
DTEND;TZID=America/Denver:20240912T123000
LOCATION:Zoom link to be sent a week before event.
SUMMARY:Protecting Our Kids Symposium (Virtual)
END:VEVENT
END:VCALENDAR
