BEGIN:VCALENDAR
VERSION:2.0
PRODID:-//cacidaho.org//NONSGML kigkonsult.se iCalcreator 2.30.10//
CALSCALE:GREGORIAN
METHOD:PUBLISH
UID:fdf1fc05-45c7-4e36-9805-c221a320ce17
X-WR-CALDESC:Sponsored by DL Evans Bank\n\nStewards of Children®\, teaches 
 adults how to prevent\, recognize\, and react responsibly to child sexual 
 abuse. Additional training is available that is designed to provide more i
 n-depth information and skill development in topic areas addressed in Stew
 ards of Children®\, including but not limited to other forms of abuse\, ma
 ndated reporting\, and human trafficking.\n
X-WR-RELCALID:86cb0f6dd9cd3e53654d54f870701ff8
X-WR-TIMEZONE:America/Denver
BEGIN:VTIMEZONE
TZID:America/Denver
BEGIN:STANDARD
TZNAME:MST
DTSTART:20241103T020000
TZOFFSETFROM:-0600
TZOFFSETTO:-0700
RDATE:20251102T020000
END:STANDARD
BEGIN:DAYLIGHT
TZNAME:MDT
DTSTART:20250309T020000
TZOFFSETFROM:-0700
TZOFFSETTO:-0600
RDATE:20260308T020000
END:DAYLIGHT
END:VTIMEZONE
BEGIN:VEVENT
UID:ec9c2729-4acf-4727-b97b-519f6f3d15b1
DTSTAMP:20260422T122212Z
DESCRIPTION:Sponsored by DL Evans Bank\n\nStewards of Children®\, teaches a
 dults how to prevent\, recognize\, and react responsibly to child sexual a
 buse. Additional training is available that is designed to provide more in
 -depth information and skill development in topic areas addressed in Stewa
 rds of Children®\, including but not limited to other forms of abuse\, man
 dated reporting\, and human trafficking.\n
DTSTART;TZID=America/Denver:20250401T124500
DTEND;TZID=America/Denver:20250401T153000
LOCATION:Tomlinson South Meridian YMCA\, 5155 S Hillsdale Ave\, Meridian\, 
 ID 83642 US
SUMMARY:Darkness to Light - Stewards of Children Training
END:VEVENT
END:VCALENDAR
