BEGIN:VCALENDAR
VERSION:2.0
PRODID:-//cacidaho.org//NONSGML kigkonsult.se iCalcreator 2.30.10//
CALSCALE:GREGORIAN
METHOD:PUBLISH
UID:7239422f-99ee-4312-9092-b8009a3ee096
X-WR-CALDESC:Sponsored by DL Evans Bank\n\nStrong Families\, Safe Kids Fair
 \n* Building a Safer\, Stronger Treasure Valley *\n\n Free Family Event | 
  Games & Activities |  Community Resources\n\nApril 1\, 2025  | 4:00 PM – 
 7:00 PM | Tomlinson South Meridian YMCA - 5155 S Hillsdale Ave\, Meridian
 \n\n* Special Kickoff at 4 PM with Local Mayors & Officials\n* Food Availa
 ble for Purchase from Coned Pizza Food Truck\n\nJoin us for a fun-filled e
 vent connecting families with local organizations dedicated to child safet
 y and family resilience!
X-WR-RELCALID:841ec160cc26e6cee6c29916872faec3
X-WR-TIMEZONE:America/Denver
BEGIN:VTIMEZONE
TZID:America/Denver
BEGIN:STANDARD
TZNAME:MST
DTSTART:20241103T020000
TZOFFSETFROM:-0600
TZOFFSETTO:-0700
RDATE:20251102T020000
END:STANDARD
BEGIN:DAYLIGHT
TZNAME:MDT
DTSTART:20250309T020000
TZOFFSETFROM:-0700
TZOFFSETTO:-0600
RDATE:20260308T020000
END:DAYLIGHT
END:VTIMEZONE
BEGIN:VEVENT
UID:0d5e0b96-66af-4f0d-a34a-87a4090ecb86
DTSTAMP:20260422T122518Z
DESCRIPTION:Sponsored by DL Evans Bank\n\nStrong Families\, Safe Kids Fair
 \n* Building a Safer\, Stronger Treasure Valley *\n\n Free Family Event | 
  Games & Activities |  Community Resources\n\nApril 1\, 2025  | 4:00 PM – 
 7:00 PM | Tomlinson South Meridian YMCA - 5155 S Hillsdale Ave\, Meridian
 \n\n* Special Kickoff at 4 PM with Local Mayors & Officials\n* Food Availa
 ble for Purchase from Coned Pizza Food Truck\n\nJoin us for a fun-filled e
 vent connecting families with local organizations dedicated to child safet
 y and family resilience!
DTSTART;TZID=America/Denver:20250401T160000
DTEND;TZID=America/Denver:20250401T190000
LOCATION:Tomlinson South Meridian YMCA\, 5155 S Hillsdale Ave\, Meridian\, 
 ID 83642 US
SUMMARY:Strong Families\, Safe Kids Fair
END:VEVENT
END:VCALENDAR
